BEGIN:VCALENDAR
VERSION:2.0
PRODID:-//ChamberMaster//Event Calendar 2.0//EN
METHOD:PUBLISH
X-PUBLISHED-TTL:P1H
REFRESH-INTERVAL:P1H
CALSCALE:GREGORIAN
BEGIN:VTIMEZONE
TZID:America/Chicago
BEGIN:DAYLIGHT
RRULE:FREQ=YEARLY;BYMONTH=3;BYDAY=2SU
DTSTART:20070101T000000
TZOFFSETFROM:-0600
TZOFFSETTO:-0500
TZNAME:Central Daylight Time
END:DAYLIGHT
BEGIN:STANDARD
RRULE:FREQ=YEARLY;BYMONTH=11;BYDAY=1SU
DTSTART:20070101T000000
TZOFFSETFROM:-0500
TZOFFSETTO:-0600
TZNAME:Central Standard Time
END:STANDARD
END:VTIMEZONE
BEGIN:VEVENT
DTSTART;TZID=America/Chicago:20260430T120000
DTEND;TZID=America/Chicago:20260430T140000
X-MICROSOFT-CDO-ALLDAYEVENT:FALSE
SUMMARY:Frost Shred-It!
DESCRIPTION:Join us for complimentary shredding services at our Clear Lake Financial Center. We encourage you to bring your documents\, start shredding and protect your security. Only paper products will be accepted\, with a limit of 10 boxes/bags per visitor. This event is free and open to the public. We hope to see you there!\nFor shredding guidelines\, please visit: http://bit.ly/shredit-frost
X-ALT-DESC;FMTTYPE=text/html:<!DOCTYPE html><html><head><title></title></head><body aria-disabled="false"><p><span style='color: rgb(8\, 8\, 9)\; font-family: system-ui\, -apple-system\, "system-ui"\, ".SFNSText-Regular"\, sans-serif\; font-size: 15px\; font-style: normal\; font-variant-ligatures: normal\; font-variant-caps: normal\; font-weight: 400\; letter-spacing: normal\; orphans: 2\; text-align: start\; text-indent: 0px\; text-transform: none\; widows: 2\; word-spacing: 0px\; -webkit-text-stroke-width: 0px\; white-space: normal\; background-color: rgb(255\, 255\, 255)\; text-decoration-thickness: initial\; text-decoration-style: initial\; text-decoration-color: initial\; display: inline !important\; float: none\;'>Join us for complimentary shredding services at our Clear Lake Financial Center. We encourage you to bring your documents\, start shredding and protect your security. Only paper products will be accepted\, with a limit of 10 boxes/bags per visitor. This event is free and open to the public. We hope to see you there!</span></p><p><br style="color: rgb(8\, 8\, 9)\; font-family: system-ui\, -apple-system\, &quot\;system-ui&quot\;\, &quot\;.SFNSText-Regular&quot\;\, sans-serif\; font-size: 15px\; font-style: normal\; font-variant-ligatures: normal\; font-variant-caps: normal\; font-weight: 400\; letter-spacing: normal\; orphans: 2\; text-align: start\; text-indent: 0px\; text-transform: none\; widows: 2\; word-spacing: 0px\; -webkit-text-stroke-width: 0px\; white-space: normal\; background-color: rgb(255\, 255\, 255)\; text-decoration-thickness: initial\; text-decoration-style: initial\; text-decoration-color: initial\;"><span style='color: rgb(8\, 8\, 9)\; font-family: system-ui\, -apple-system\, "system-ui"\, ".SFNSText-Regular"\, sans-serif\; font-size: 15px\; font-style: normal\; font-variant-ligatures: normal\; font-variant-caps: normal\; font-weight: 400\; letter-spacing: normal\; orphans: 2\; text-align: start\; text-indent: 0px\; text-transform: none\; widows: 2\; word-spacing: 0px\; -webkit-text-stroke-width: 0px\; white-space: normal\; background-color: rgb(255\, 255\, 255)\; text-decoration-thickness: initial\; text-decoration-style: initial\; text-decoration-color: initial\; display: inline !important\; float: none\;'>For shredding guidelines\, please visit:&nbsp\;</span><a fr-original-style='color: rgb(0\, 100\, 209)\; cursor: pointer\; text-decoration: none\; outline: none\; border-inline-width: 0px\; margin-inline: 0px\; text-align: start\; border-inline-style: none\; padding-inline: 0px\; -webkit-tap-highlight-color: transparent\; font-weight: 600\; list-style-type: none\; box-sizing: border-box\; touch-action: manipulation\; background-color: rgb(255\, 255\, 255)\; display: inline\; padding-bottom: 0px\; border-top-style: none\; border-bottom-width: 0px\; border-bottom-style: none\; border-top-width: 0px\; margin-bottom: 0px\; margin-top: 0px\; padding-top: 0px\; font-family: system-ui\, -apple-system\, "system-ui"\, ".SFNSText-Regular"\, sans-serif\; font-size: 15px\; font-style: normal\; font-variant-ligatures: normal\; font-variant-caps: normal\; letter-spacing: normal\; orphans: 2\; text-indent: 0px\; text-transform: none\; widows: 2\; word-spacing: 0px\; -webkit-text-stroke-width: 0px\; white-space: normal\;' href="https://bit.ly/shredit-frost?fbclid=IwZXh0bgNhZW0CMTAAYnJpZBExVEVkS2h5TFRVTHJEeWpiSHNydGMGYXBwX2lkEDIyMjAzOTE3ODgyMDA4OTIAAR7PmgvnsYVIeE2EdYJTe-fdDr3maCa6xoSg0t84688IS8UiojGOttsM8iUmgw_aem_76Va3FYFh2JBahEQT204Vw" rel="nofollow noreferrer" style='color: rgb(0\, 100\, 209)\; cursor: pointer\; text-decoration: none\; outline: none\; text-align: start\; -webkit-tap-highlight-color: transparent\; font-weight: 600\; list-style-type: none\; box-sizing: border-box\; touch-action: manipulation\; background-color: rgb(255\, 255\, 255)\; display: inline\; font-family: system-ui\, -apple-system\, "system-ui"\, ".SFNSText-Regular"\, sans-serif\; font-size: 15px\; font-style: normal\; font-variant-ligatures: normal\; font-variant-caps: normal\; letter-spacing: normal\; orphans: 2\; text-indent: 0px\; text-transform: none\; widows: 2\; word-spacing: 0px\; -webkit-text-stroke-width: 0px\; white-space: normal\; user-select: auto\; border-inline-width: 0px\; margin-inline: 0px\; border-inline-style: none\; padding-inline: 0px\; padding-bottom: 0px\; border-top-style: none\; border-bottom-width: 0px\; border-bottom-style: none\; border-top-width: 0px\; margin-bottom: 0px\; margin-top: 0px\; padding-top: 0px\;' tabindex="0" target="_blank">http://bit.ly/shredit-frost</a></p></body></html>
LOCATION:
UID:e.2325.1439420
SEQUENCE:3
DTSTAMP:20260420T150901Z
URL:https://members.clearlakearea.com/chamber-events/Details/frost-shred-it-1703888?sourceTypeId=Hub
END:VEVENT
END:VCALENDAR
