BEGIN:VCALENDAR
VERSION:2.0
PRODID:-//ChamberMaster//Event Calendar 2.0//EN
METHOD:PUBLISH
X-PUBLISHED-TTL:P1H
REFRESH-INTERVAL:P1H
CALSCALE:GREGORIAN
BEGIN:VTIMEZONE
TZID:America/Chicago
BEGIN:DAYLIGHT
RRULE:FREQ=YEARLY;BYMONTH=3;BYDAY=2SU
DTSTART:20070101T000000
TZOFFSETFROM:-0600
TZOFFSETTO:-0500
TZNAME:Central Daylight Time
END:DAYLIGHT
BEGIN:STANDARD
RRULE:FREQ=YEARLY;BYMONTH=11;BYDAY=1SU
DTSTART:20070101T000000
TZOFFSETFROM:-0500
TZOFFSETTO:-0600
TZNAME:Central Standard Time
END:STANDARD
END:VTIMEZONE
BEGIN:VEVENT
DTSTART;TZID=America/Chicago:20260509T100000
DTEND;TZID=America/Chicago:20260509T130000
X-MICROSOFT-CDO-ALLDAYEVENT:FALSE
SUMMARY:Friends of Freeman Library Porch Sale
DESCRIPTION:The Friends of Freeman Library invite you to our Porch Book Sale! Browse a whole porch full of books for all ages at unbeatable prices. Explore a large selection of clearance fiction\, nonfiction\, children’s books\, paperbacks\, DVDs\, and CDs. You’ll also find exclusive book-themed merchandise from the Friends of Freeman\, including mugs\, tote bags\, and bookmarks.\n\nAll proceeds support Freeman Library programs and services.
X-ALT-DESC;FMTTYPE=text/html:The Friends of Freeman Library invite you to our Porch Book Sale! Browse a whole porch full of books for all ages at unbeatable prices. Explore a large selection of clearance fiction\, nonfiction\, children’s books\, paperbacks\, DVDs\, and CDs. You’ll also find exclusive book-themed merchandise from the Friends of Freeman\, including mugs\, tote bags\, and bookmarks.\n\nAll proceeds support Freeman Library programs and services.
LOCATION:16616 Diana Ln Houston TX 77062
UID:e.2325.1444932
SEQUENCE:3
DTSTAMP:20260420T150140Z
URL:https://members.clearlakearea.com/chamber-events/Details/friends-of-freeman-library-porch-sale-1711352?sourceTypeId=Hub
END:VEVENT
END:VCALENDAR
