BEGIN:VCALENDAR
VERSION:2.0
PRODID:-//ChamberMaster//Event Calendar 2.0//EN
METHOD:PUBLISH
X-PUBLISHED-TTL:P1H
REFRESH-INTERVAL:P1H
CALSCALE:GREGORIAN
BEGIN:VTIMEZONE
TZID:America/Chicago
BEGIN:DAYLIGHT
RRULE:FREQ=YEARLY;BYMONTH=3;BYDAY=2SU
DTSTART:20070101T000000
TZOFFSETFROM:-0600
TZOFFSETTO:-0500
TZNAME:Central Daylight Time
END:DAYLIGHT
BEGIN:STANDARD
RRULE:FREQ=YEARLY;BYMONTH=11;BYDAY=1SU
DTSTART:20070101T000000
TZOFFSETFROM:-0500
TZOFFSETTO:-0600
TZNAME:Central Standard Time
END:STANDARD
END:VTIMEZONE
BEGIN:VEVENT
DTSTART;TZID=America/Chicago:20260618T163000
DTEND;TZID=America/Chicago:20260618T183000
X-MICROSOFT-CDO-ALLDAYEVENT:FALSE
SUMMARY:Young Professional's After Hours
DESCRIPTION:The Clear Lake Area Chamber of Commerce Young Professionals are hosting a Young Professionals After Hours\, and it's not your typical networking event. Make great connections\, in a relaxed setting. This is a fresh way to meet fellow professionals in the Clear Lake area. Sponsorship opportunities available. For more information contact Wendy 281-488-7676 or -Wendy@clearlakearea.com. Details coming soon!
X-ALT-DESC;FMTTYPE=text/html:<!DOCTYPE html><html><head><title></title></head><body aria-disabled="false"><p style="color: rgba(0\,0\,0\,var(--O42jJQ\,1))\; caret-color: rgb(0\, 0\, 0)\; --8sD0Kg: none\; font-family: YAFdJjbTu24_1\, _fb_\, auto\; --cyV3ZQ: 25.3356px\; --gJPlXQ: 1.5\; text-transform: none\; --s8NbEA: p\; line-height: 38px\;"><span style="color: rgba(0\,0\,0\,var(--O42jJQ\,1))\; caret-color: rgb(0\, 0\, 0)\; --Ys-XuQ: none\; font-weight: 400\; font-style: normal\; font-kerning: none\;">The Clear Lake Area Chamber of Commerce Young Professionals are hosting a Young Professionals After Hours\, and it&rsquo\;s not your typical networking event. Make great connections\, in a relaxed setting. This is a fresh way to meet fellow professionals in the Clear Lake area.&nbsp\;</span></p><p style="color: rgba(0\,0\,0\,var(--O42jJQ\,1))\; caret-color: rgb(0\, 0\, 0)\; --8sD0Kg: none\; font-family: YAFdJjbTu24_1\, _fb_\, auto\; --cyV3ZQ: 25.3356px\; --gJPlXQ: 1.5\; text-transform: none\; --s8NbEA: p\; line-height: 38px\;"><span style="color: rgba(0\,0\,0\,var(--O42jJQ\,1))\; caret-color: rgb(0\, 0\, 0)\; --Ys-XuQ: none\; font-weight: 700\; font-style: normal\; font-kerning: none\;">Sponsorship opportunities available. For more information contact Wendy 281-488-7676 or <a data-fr-linked="true" fr-original-style="" href="mailto:-Wendy@clearlakearea.com" style="user-select: auto\; color: inherit\;">-Wendy@clearlakearea.com</a>.&nbsp\;</span></p><p style="color: rgba(0\,0\,0\,var(--O42jJQ\,1))\; caret-color: rgb(0\, 0\, 0)\; --8sD0Kg: none\; font-family: YAFdJjbTu24_1\, _fb_\, auto\; --cyV3ZQ: 25.3356px\; --gJPlXQ: 1.5\; text-transform: none\; --s8NbEA: p\; line-height: 38px\;">Details coming soon!</p></body></html>
LOCATION:806 E NASA Pkwy Webster TX 77058
UID:e.2325.1444074
SEQUENCE:3
DTSTAMP:20260419T172235Z
URL:https://members.clearlakearea.com/chamber-events/Details/young-professional-s-after-hours-1710385?sourceTypeId=Hub
END:VEVENT
END:VCALENDAR
