BEGIN:VCALENDAR
VERSION:2.0
PRODID:-//ChamberMaster//Event Calendar 2.0//EN
METHOD:PUBLISH
X-PUBLISHED-TTL:P1H
REFRESH-INTERVAL:P1H
CALSCALE:GREGORIAN
BEGIN:VTIMEZONE
TZID:America/Chicago
BEGIN:DAYLIGHT
RRULE:FREQ=YEARLY;BYMONTH=3;BYDAY=2SU
DTSTART:20070101T000000
TZOFFSETFROM:-0600
TZOFFSETTO:-0500
TZNAME:Central Daylight Time
END:DAYLIGHT
BEGIN:STANDARD
RRULE:FREQ=YEARLY;BYMONTH=11;BYDAY=1SU
DTSTART:20070101T000000
TZOFFSETFROM:-0500
TZOFFSETTO:-0600
TZNAME:Central Standard Time
END:STANDARD
END:VTIMEZONE
BEGIN:VEVENT
DTSTART;TZID=America/Chicago:20260505T083000
DTEND;TZID=America/Chicago:20260505T103000
X-MICROSOFT-CDO-ALLDAYEVENT:FALSE
SUMMARY:Business Development
DESCRIPTION:Ready to grow your business reach?Join us for a free one-hour class packed with practical marketing strategies you can start using right away. We'll cover:Social media: how to show up consistently and connect with your audienceSEO: getting found when people search for what you offerAI tools: working smarter with the latest marketing technologyGoogle Business Profile & E-E-A-T : building trust and visibility in searchCommunity marketing: growing loyal relationships on and offlinePrint marketing: how traditional tactics still drive real results
X-ALT-DESC;FMTTYPE=text/html:<!DOCTYPE html><html><head><title></title></head><body aria-disabled="false"><p><strong fr-original-style="" style="font-weight: 700\;">Ready to grow your business reach?</strong></p><p>Join us for a free one-hour class packed with practical marketing strategies you can start using right away. We&#39\;ll cover:</p><ul fr-original-style="margin-top:0in\;" style="margin-top: 0in\; list-style-position: inside\;" type="disc"><li style="mso-list:l0 level1 lfo1\;tab-stops:list .5in\;">Social media: how to show up consistently and connect with your audience</li><li style="mso-list:l0 level1 lfo1\;tab-stops:list .5in\;">SEO: getting found when people search for what you offer</li><li style="mso-list:l0 level1 lfo1\;tab-stops:list .5in\;">AI tools: working smarter with the latest marketing technology</li><li style="mso-list:l0 level1 lfo1\;tab-stops:list .5in\;">Google Business Profile &amp\; E-E-A-T : building trust and visibility in search</li><li style="mso-list:l0 level1 lfo1\;tab-stops:list .5in\;">Community marketing: growing loyal relationships on and offline</li><li style="mso-list:l0 level1 lfo1\;tab-stops:list .5in\;">Print marketing: how traditional tactics still drive real results</li></ul></body></html>
LOCATION:1201 E. NASA Parkway Houston TX 77058
UID:e.2325.1443414
SEQUENCE:3
DTSTAMP:20260419T171745Z
URL:https://members.clearlakearea.com/chamber-events/Details/business-development-1709657?sourceTypeId=Hub
END:VEVENT
END:VCALENDAR
